BEGIN:VCALENDAR
VERSION:2.0
PRODID:-//Death Magnetic - ECPv5.10.1//NONSGML v1.0//EN
CALSCALE:GREGORIAN
METHOD:PUBLISH
X-WR-CALNAME:Death Magnetic
X-ORIGINAL-URL:https://deathmagnetic.pl
X-WR-CALDESC:Events for Death Magnetic
BEGIN:VTIMEZONE
TZID:Europe/Warsaw
BEGIN:DAYLIGHT
TZOFFSETFROM:+0100
TZOFFSETTO:+0200
TZNAME:CEST
DTSTART:20170326T010000
END:DAYLIGHT
BEGIN:STANDARD
TZOFFSETFROM:+0200
TZOFFSETTO:+0100
TZNAME:CET
DTSTART:20171029T010000
END:STANDARD
END:VTIMEZONE
BEGIN:VEVENT
DTSTART;TZID=Europe/Warsaw:20170525T190000
DTEND;TZID=Europe/Warsaw:20170525T220000
DTSTAMP:20260421T073904
CREATED:20170210T165411Z
LAST-MODIFIED:20170210T171138Z
UID:111506-1495738800-1495749600@deathmagnetic.pl
SUMMARY:Tribute to Dio Olsztyn
DESCRIPTION:Bilety: 20 zł w przedsprzedaży /30 zł w dniu koncertu\nPrzedsprzedaż biletów dostępna online na: http://screammaker.8merch.com/bilety \nW klubach przedsprzedaż rozpocznie się 10 marca.
URL:https://deathmagnetic.pl/wydarzenie/111506/
LOCATION:Nowy Andergrant\, Kołobrzeska 32\, Olsztyn\, 10-432 \, Polska
CATEGORIES:Koncerty,patronaty,Polskie
ATTACH;FMTTYPE=image/jpeg:https://deathmagnetic.pl/wp-content/uploads/2017/02/DIO-plakat-2017-Warszawa-e1486746854847.jpg
GEO:53.779712;20.502776
X-APPLE-STRUCTURED-LOCATION;VALUE=URI;X-ADDRESS=Nowy Andergrant Kołobrzeska 32 Olsztyn 10-432  Polska;X-APPLE-RADIUS=500;X-TITLE=Kołobrzeska 32:geo:20.502776,53.779712
END:VEVENT
END:VCALENDAR